BEGIN:VCALENDAR
VERSION:2.0
PRODID:-//Tukios.com/
BEGIN:VEVENT
UID:214cf080-70f1-4340-8f90-59cd78d6964d@www.memorialfuneral.com
DTSTAMP:20260424T170428Z
DTSTART:20260428T160000Z
DTEND:20260428T170000Z
SUMMARY:Burial
DESCRIPTION:
URL:https://www.memorialfuneral.com/obituaries/victoria-ayala
LOCATION: 4607 N Sugar Rd  Pharr TX 78577
GEO:26.237863;-98.1910417
END:VEVENT
END:VCALENDAR