BEGIN:VCALENDAR
VERSION:2.0
PRODID:-//Tukios.com/
BEGIN:VEVENT
UID:1550ae60-d1a8-430c-97f4-d7d00e8803f7@www.memorialfuneral.com
DTSTAMP:20260424T170730Z
DTSTART:20260428T150000Z
DTEND:20260428T153000Z
SUMMARY:Funeral Service
DESCRIPTION:
URL:https://www.memorialfuneral.com/obituaries/victoria-ayala
LOCATION: 311 E Expressway 83  San Juan TX 78589
GEO:26.1959139;-98.1500033
END:VEVENT
END:VCALENDAR