BEGIN:VCALENDAR
VERSION:2.0
PRODID:-//Tukios.com/
BEGIN:VEVENT
UID:9971668d-8235-4394-adac-a6c7a98f13cf@www.memorialfuneral.com
DTSTAMP:20260424T170602Z
DTSTART:20260427T230000Z
DTEND:20260428T000000Z
SUMMARY:Prayer Service
DESCRIPTION:
URL:https://www.memorialfuneral.com/obituaries/victoria-ayala
LOCATION: 311 E Expressway 83  San Juan TX 78589
GEO:26.1959139;-98.1500033
END:VEVENT
END:VCALENDAR