BEGIN:VCALENDAR
VERSION:2.0
PRODID:-//Tukios.com/
BEGIN:VEVENT
UID:79529c43-a7db-40c5-b87c-3bc35d38df17@www.memorialfuneral.com
DTSTAMP:20260421T014106Z
DTSTART:20260423T180000Z
DTEND:20260423T190000Z
SUMMARY:Burial
DESCRIPTION:
URL:https://www.memorialfuneral.com/obituaries/ruben-lopez
LOCATION: 1501 S Main St  McAllen TX 78501
GEO:26.1910428;-98.2366384
END:VEVENT
END:VCALENDAR