BEGIN:VCALENDAR
VERSION:2.0
PRODID:-//Tukios.com/
BEGIN:VEVENT
UID:148459c1-7263-4fdf-bec5-2f4a0e8a5850@www.memorialfuneral.com
DTSTAMP:20260421T014124Z
DTSTART:20260423T170000Z
DTEND:20260423T174500Z
SUMMARY:Funeral Service
DESCRIPTION:
URL:https://www.memorialfuneral.com/obituaries/ruben-lopez
LOCATION: 311 E Expressway 83  San Juan TX 78589
GEO:26.1959139;-98.1500033
END:VEVENT
END:VCALENDAR