BEGIN:VCALENDAR
VERSION:2.0
PRODID:-//Tukios.com/
BEGIN:VEVENT
UID:0f750053-7729-44d0-a362-78ea346bb4db@www.memorialfuneral.com
DTSTAMP:20260421T014311Z
DTSTART:20260422T230000Z
DTEND:20260423T000000Z
SUMMARY:Prayer Service
DESCRIPTION:
URL:https://www.memorialfuneral.com/obituaries/ruben-lopez
LOCATION: 311 E Expressway 83  San Juan TX 78589
GEO:26.1965296;-98.1503791
END:VEVENT
END:VCALENDAR