BEGIN:VCALENDAR
VERSION:2.0
PRODID:-//Tukios.com/
BEGIN:VEVENT
UID:1ee72a37-822d-49fe-ab34-a93e90db3156@www.memorialfuneral.com
DTSTAMP:20260419T221550Z
DTSTART:20260421T230000Z
DTEND:20260422T000000Z
SUMMARY:Prayer Service
DESCRIPTION:
URL:https://www.memorialfuneral.com/obituaries/rosalinda-alanis
LOCATION: 208 E Canton Rd  Edinburg TX 78539
GEO:26.2745012;-98.1681285
END:VEVENT
END:VCALENDAR