BEGIN:VCALENDAR
VERSION:2.0
PRODID:-//Tukios.com/
BEGIN:VEVENT
UID:c61629ee-ca51-4b60-ae86-dfdf0582bf37@www.memorialfuneral.com
DTSTAMP:20260419T222037Z
DTSTART:20260421T220000Z
DTEND:20260422T010000Z
SUMMARY:Visitation
DESCRIPTION:
URL:https://www.memorialfuneral.com/obituaries/rosalinda-alanis
LOCATION: 208 E Canton Rd  Edinburg TX 78539
GEO:26.2745012;-98.1681285
END:VEVENT
END:VCALENDAR