BEGIN:VCALENDAR
VERSION:2.0
PRODID:-//Tukios.com/
BEGIN:VEVENT
UID:8a94d63e-50f9-4518-88fc-9f12ff567e87@www.memorialfuneral.com
DTSTAMP:20260423T004944Z
DTSTART:20260425T160000Z
DTEND:20260425T170000Z
SUMMARY:Burial
DESCRIPTION:
URL:https://www.memorialfuneral.com/obituaries/paulita-hernandez
LOCATION: 3605 N Taylor Rd  Mission TX 78573
GEO:26.2416744;-98.2729453
END:VEVENT
END:VCALENDAR