BEGIN:VCALENDAR
VERSION:2.0
PRODID:-//Tukios.com/
BEGIN:VEVENT
UID:3916c899-c502-42ca-9115-3408a88d206d@www.memorialfuneral.com
DTSTAMP:20260423T004819Z
DTSTART:20260425T000000Z
DTEND:20260425T010000Z
SUMMARY:Talk
DESCRIPTION:
URL:https://www.memorialfuneral.com/obituaries/paulita-hernandez
LOCATION: 311 E Expressway 83  San Juan TX 78589
GEO:26.1965296;-98.1503791
END:VEVENT
END:VCALENDAR