BEGIN:VCALENDAR
VERSION:2.0
PRODID:-//Tukios.com/
BEGIN:VEVENT
UID:34ad4916-7bbb-43cc-82f0-1ac364691585@www.memorialfuneral.com
DTSTAMP:20260423T004640Z
DTSTART:20260425T150000Z
DTEND:20260425T154500Z
SUMMARY:Funeral Service
DESCRIPTION:
URL:https://www.memorialfuneral.com/obituaries/paulita-hernandez
LOCATION: 311 E Expressway 83  San Juan TX 78589
GEO:26.1959139;-98.1500033
END:VEVENT
END:VCALENDAR