BEGIN:VCALENDAR
VERSION:2.0
PRODID:-//Tukios.com/
BEGIN:VEVENT
UID:7cf1189d-4b08-4bf1-af0f-b8036001d542@www.memorialfuneral.com
DTSTAMP:20260423T004902Z
DTSTART:20260424T220000Z
DTEND:20260425T010000Z
SUMMARY:Visitation
DESCRIPTION:
URL:https://www.memorialfuneral.com/obituaries/paulita-hernandez
LOCATION: 311 E Expressway 83  San Juan TX 78589
GEO:26.1959139;-98.1500033
END:VEVENT
END:VCALENDAR