BEGIN:VCALENDAR
VERSION:2.0
PRODID:-//Tukios.com/
BEGIN:VEVENT
UID:1c88eadb-e128-4fa3-8110-8d534b806272@www.memorialfuneral.com
DTSTAMP:20260421T234849Z
DTSTART:20260424T163000Z
DTEND:20260424T173000Z
SUMMARY:Funeral Service
DESCRIPTION:
URL:https://www.memorialfuneral.com/obituaries/noah-perez
LOCATION: 208 E Canton Rd  Edinburg TX 78539
GEO:26.2745012;-98.1681285
END:VEVENT
END:VCALENDAR