BEGIN:VCALENDAR
VERSION:2.0
PRODID:-//Tukios.com/
BEGIN:VEVENT
UID:40232d02-1d31-498c-b95e-792d27bd586c@www.memorialfuneral.com
DTSTAMP:20260421T235009Z
DTSTART:20260424T180000Z
DTEND:20260424T190000Z
SUMMARY:Interment
DESCRIPTION:
URL:https://www.memorialfuneral.com/obituaries/noah-perez
LOCATION: 1701 E Richardson Rd  Edinburg TX 78542
GEO:26.3062456;-98.1435901
END:VEVENT
END:VCALENDAR