BEGIN:VCALENDAR
VERSION:2.0
PRODID:-//Tukios.com/
BEGIN:VEVENT
UID:0a0afe82-c859-4d68-8f7f-cf4eceba370f@www.memorialfuneral.com
DTSTAMP:20260421T234731Z
DTSTART:20260423T230000Z
DTEND:20260424T000000Z
SUMMARY:Rosary
DESCRIPTION:
URL:https://www.memorialfuneral.com/obituaries/noah-perez
LOCATION: 208 E Canton Rd  Edinburg TX 78539
GEO:26.2745012;-98.1681285
END:VEVENT
END:VCALENDAR