BEGIN:VCALENDAR
VERSION:2.0
PRODID:-//Tukios.com/
BEGIN:VEVENT
UID:7c5908fd-6db8-4430-bef2-443d49e4ffa8@www.memorialfuneral.com
DTSTAMP:20260421T234848Z
DTSTART:20260423T210000Z
DTEND:20260424T010000Z
SUMMARY:Visitation
DESCRIPTION:
URL:https://www.memorialfuneral.com/obituaries/noah-perez
LOCATION: 208 E Canton Rd  Edinburg TX 78539
GEO:26.2745012;-98.1681285
END:VEVENT
END:VCALENDAR