BEGIN:VCALENDAR
VERSION:2.0
PRODID:-//Tukios.com/
BEGIN:VEVENT
UID:83d0c500-ca82-44da-b7f6-e5965b283ce0@www.memorialfuneral.com
DTSTAMP:20260425T224043Z
DTSTART:20260429T160000Z
DTEND:20260429T170000Z
SUMMARY:Burial
DESCRIPTION:
URL:https://www.memorialfuneral.com/obituaries/maria-gomez-pruneda
LOCATION: 2520 Inspiration Rd  Mission TX 78572
GEO:26.1857357;-98.3556221
END:VEVENT
END:VCALENDAR