BEGIN:VCALENDAR
VERSION:2.0
PRODID:-//Tukios.com/
BEGIN:VEVENT
UID:d9251c98-47bc-4d94-8693-e12b5d816f07@www.memorialfuneral.com
DTSTAMP:20260425T224150Z
DTSTART:20260429T140000Z
DTEND:20260429T150000Z
SUMMARY:Funeral Service
DESCRIPTION:
URL:https://www.memorialfuneral.com/obituaries/maria-gomez-pruneda
LOCATION: 122 W Hawk Ave  Pharr TX 78577
GEO:26.1983767;-98.1846225
END:VEVENT
END:VCALENDAR