BEGIN:VCALENDAR
VERSION:2.0
PRODID:-//Tukios.com/
BEGIN:VEVENT
UID:5cf01250-5453-432d-bcf0-466d5d659b36@www.memorialfuneral.com
DTSTAMP:20260425T224114Z
DTSTART:20260428T230000Z
DTEND:20260429T000000Z
SUMMARY:Rosary
DESCRIPTION:
URL:https://www.memorialfuneral.com/obituaries/maria-gomez-pruneda
LOCATION: 311 E Expressway 83  San Juan TX 78589
GEO:26.1965296;-98.1503791
END:VEVENT
END:VCALENDAR