BEGIN:VCALENDAR
VERSION:2.0
PRODID:-//Tukios.com/
BEGIN:VEVENT
UID:e119ae7b-de05-4397-a8cd-578474e3ba31@www.memorialfuneral.com
DTSTAMP:20260425T224114Z
DTSTART:20260428T220000Z
DTEND:20260429T010000Z
SUMMARY:Visitation
DESCRIPTION:
URL:https://www.memorialfuneral.com/obituaries/maria-gomez-pruneda
LOCATION: 311 E Expressway 83  San Juan TX 78589
GEO:26.1965296;-98.1503791
END:VEVENT
END:VCALENDAR