BEGIN:VCALENDAR
VERSION:2.0
PRODID:-//Tukios.com/
BEGIN:VEVENT
UID:9d60b7dc-f2e1-4f40-a9a0-08b5621d7d4f@www.memorialfuneral.com
DTSTAMP:20260421T044218Z
DTSTART:20260424T180000Z
DTEND:20260424T190000Z
SUMMARY:Burial
DESCRIPTION:
URL:https://www.memorialfuneral.com/obituaries/kernut-guerrero
LOCATION: 6200 Val Verde Rd  Donna TX 78537
GEO:26.2181996;-98.0784852
END:VEVENT
END:VCALENDAR