BEGIN:VCALENDAR
VERSION:2.0
PRODID:-//Tukios.com/
BEGIN:VEVENT
UID:19da965a-03c3-4b45-abb0-dcf661652ad6@www.memorialfuneral.com
DTSTAMP:20260421T044108Z
DTSTART:20260423T230000Z
DTEND:20260424T000000Z
SUMMARY:Prayer Service
DESCRIPTION:
URL:https://www.memorialfuneral.com/obituaries/kernut-guerrero
LOCATION: 311 E Expressway 83  San Juan TX 78589
GEO:26.1965296;-98.1503791
END:VEVENT
END:VCALENDAR