BEGIN:VCALENDAR
VERSION:2.0
PRODID:-//Tukios.com/
BEGIN:VEVENT
UID:fe3b09a1-4a43-4f13-a3d1-8036abfbe052@www.memorialfuneral.com
DTSTAMP:20260421T044219Z
DTSTART:20260423T220000Z
DTEND:20260424T010000Z
SUMMARY:Visitation
DESCRIPTION:
URL:https://www.memorialfuneral.com/obituaries/kernut-guerrero
LOCATION: 311 E Expressway 83  San Juan TX 78589
GEO:26.1965296;-98.1503791
END:VEVENT
END:VCALENDAR