BEGIN:VCALENDAR
VERSION:2.0
PRODID:-//Tukios.com/
BEGIN:VEVENT
UID:f243c0df-6c32-4bea-a398-0750b528a937@www.memorialfuneral.com
DTSTAMP:20260423T034859Z
DTSTART:20260427T150000Z
DTEND:20260427T160000Z
SUMMARY:Burial
DESCRIPTION:
URL:https://www.memorialfuneral.com/obituaries/inocencio-diaz
LOCATION: 1701 E Richardson Rd  Edinburg TX 78542
GEO:26.3062456;-98.1435901
END:VEVENT
END:VCALENDAR