BEGIN:VCALENDAR
VERSION:2.0
PRODID:-//Tukios.com/
BEGIN:VEVENT
UID:2fce2281-15e6-4509-b463-202870f7cc8b@www.memorialfuneral.com
DTSTAMP:20260423T034818Z
DTSTART:20260427T140000Z
DTEND:20260427T143000Z
SUMMARY:Funeral Service
DESCRIPTION:
URL:https://www.memorialfuneral.com/obituaries/inocencio-diaz
LOCATION: 1302 E Champion St  Edinburg TX 78539
GEO:26.2942625;-98.1498909
END:VEVENT
END:VCALENDAR