BEGIN:VCALENDAR
VERSION:2.0
PRODID:-//Tukios.com/
BEGIN:VEVENT
UID:5b582199-6d54-4c71-bae9-00b9b0b5230b@www.memorialfuneral.com
DTSTAMP:20260423T035012Z
DTSTART:20260426T230000Z
DTEND:20260427T000000Z
SUMMARY:Rosary
DESCRIPTION:
URL:https://www.memorialfuneral.com/obituaries/inocencio-diaz
LOCATION: 208 E Canton Rd  Edinburg TX 78539
GEO:26.2745012;-98.1681285
END:VEVENT
END:VCALENDAR