BEGIN:VCALENDAR
VERSION:2.0
PRODID:-//Tukios.com/
BEGIN:VEVENT
UID:0a4f722f-1da1-49a0-8685-f6e9bc15365f@www.memorialfuneral.com
DTSTAMP:20260425T000321Z
DTSTART:20260501T230000Z
DTEND:20260502T000000Z
SUMMARY:Memorial Service
DESCRIPTION:
URL:https://www.memorialfuneral.com/obituaries/herman-pearson
LOCATION: 208 E Canton Rd  Edinburg TX 78539
GEO:26.2745012;-98.1681285
END:VEVENT
END:VCALENDAR