BEGIN:VCALENDAR
VERSION:2.0
PRODID:-//Tukios.com/
BEGIN:VEVENT
UID:d602bc23-4f76-4982-a191-6147e2e0df7f@www.memorialfuneral.com
DTSTAMP:20260424T193130Z
DTSTART:20260427T160000Z
DTEND:20260427T170000Z
SUMMARY:Burial
DESCRIPTION:
URL:https://www.memorialfuneral.com/obituaries/guadalupe-reyes-jr
LOCATION: 6200 Val Verde Rd  Donna TX 78537
GEO:26.2181996;-98.0784852
END:VEVENT
END:VCALENDAR