BEGIN:VCALENDAR
VERSION:2.0
PRODID:-//Tukios.com/
BEGIN:VEVENT
UID:cac5e67f-067d-44f1-ad4a-63dd5d455baa@www.memorialfuneral.com
DTSTAMP:20260424T192721Z
DTSTART:20260427T150000Z
DTEND:20260427T154500Z
SUMMARY:Funeral Service
DESCRIPTION:
URL:https://www.memorialfuneral.com/obituaries/guadalupe-reyes-jr
LOCATION: 208 E Canton Rd  Edinburg TX 78539
GEO:26.2745012;-98.1681285
END:VEVENT
END:VCALENDAR