BEGIN:VCALENDAR
VERSION:2.0
PRODID:-//Tukios.com/
BEGIN:VEVENT
UID:d5cf86a0-fc3d-40a2-a074-bbd80eb8eb2b@www.memorialfuneral.com
DTSTAMP:20260424T193042Z
DTSTART:20260426T230000Z
DTEND:20260427T000000Z
SUMMARY:Prayer Service
DESCRIPTION:
URL:https://www.memorialfuneral.com/obituaries/guadalupe-reyes-jr
LOCATION: 208 E Canton Rd  Edinburg TX 78539
GEO:26.2745012;-98.1681285
END:VEVENT
END:VCALENDAR