BEGIN:VCALENDAR
VERSION:2.0
PRODID:-//Tukios.com/
BEGIN:VEVENT
UID:f5adbae9-0fae-4e7d-9118-3aef72a8f86e@www.memorialfuneral.com
DTSTAMP:20260424T193159Z
DTSTART:20260426T220000Z
DTEND:20260427T010000Z
SUMMARY:Visitation
DESCRIPTION:
URL:https://www.memorialfuneral.com/obituaries/guadalupe-reyes-jr
LOCATION: 208 E Canton Rd  Edinburg TX 78539
GEO:26.2745012;-98.1681285
END:VEVENT
END:VCALENDAR