BEGIN:VCALENDAR
VERSION:2.0
PRODID:-//Tukios.com/
BEGIN:VEVENT
UID:5dbd9288-22c5-417a-bb20-b3fa899e0deb@www.memorialfuneral.com
DTSTAMP:20260425T201551Z
DTSTART:20260428T180000Z
DTEND:20260428T190000Z
SUMMARY:Burial
DESCRIPTION:
URL:https://www.memorialfuneral.com/obituaries/evangelina-espinoza
LOCATION: 4607 N Sugar Rd  Pharr TX 78577
GEO:26.237863;-98.1910417
END:VEVENT
END:VCALENDAR