BEGIN:VCALENDAR
VERSION:2.0
PRODID:-//Tukios.com/
BEGIN:VEVENT
UID:cb1ec5f3-791b-4e48-9319-62a43488c3dc@www.memorialfuneral.com
DTSTAMP:20260421T005950Z
DTSTART:20260423T160000Z
DTEND:20260423T170000Z
SUMMARY:Burial
DESCRIPTION:
URL:https://www.memorialfuneral.com/obituaries/elvia-resendez
LOCATION: 4607 N Sugar Rd  Pharr TX 78577
GEO:26.237863;-98.1910417
END:VEVENT
END:VCALENDAR