BEGIN:VCALENDAR
VERSION:2.0
PRODID:-//Tukios.com/
BEGIN:VEVENT
UID:04dfdf49-fcd8-4525-9c03-d8ca0c48343e@www.memorialfuneral.com
DTSTAMP:20260421T010128Z
DTSTART:20260423T150000Z
DTEND:20260423T154500Z
SUMMARY:Funeral Service
DESCRIPTION:
URL:https://www.memorialfuneral.com/obituaries/elvia-resendez
LOCATION: 311 E Expressway 83  San Juan TX 78589
GEO:26.1959139;-98.1500033
END:VEVENT
END:VCALENDAR