BEGIN:VCALENDAR
VERSION:2.0
PRODID:-//Tukios.com/
BEGIN:VEVENT
UID:1251a04a-bfa8-4a7d-8bf7-a8e74e5e3d2f@www.memorialfuneral.com
DTSTAMP:20260421T010128Z
DTSTART:20260422T220000Z
DTEND:20260423T010000Z
SUMMARY:Visitation
DESCRIPTION:
URL:https://www.memorialfuneral.com/obituaries/elvia-resendez
LOCATION: 311 E Expressway 83  San Juan TX 78589
GEO:26.1965296;-98.1503791
END:VEVENT
END:VCALENDAR