BEGIN:VCALENDAR
VERSION:2.0
PRODID:-//Tukios.com/
BEGIN:VEVENT
UID:7ada8cac-fac0-42e9-a88e-9cc0f9f8c918@www.memorialfuneral.com
DTSTAMP:20260423T225304Z
DTSTART:20260427T163000Z
DTEND:20260427T173000Z
SUMMARY:Interment
DESCRIPTION:
URL:https://www.memorialfuneral.com/obituaries/elva-vela-flores
LOCATION:Sullivan City Cemetery Sullivan City Cemetery  Sullivan TX 78595
GEO:26.2710736;-98.5587967
END:VEVENT
END:VCALENDAR