BEGIN:VCALENDAR
VERSION:2.0
PRODID:-//Tukios.com/
BEGIN:VEVENT
UID:0608f5eb-88f7-4cc7-bf52-783064b09a33@www.memorialfuneral.com
DTSTAMP:20260421T234619Z
DTSTART:20260423T190000Z
DTEND:20260423T200000Z
SUMMARY:Burial
DESCRIPTION:
URL:https://www.memorialfuneral.com/obituaries/celia-anzaldua
LOCATION: 1701 E Richardson Rd  Edinburg TX 78542
GEO:26.3062456;-98.1435901
END:VEVENT
END:VCALENDAR