BEGIN:VCALENDAR
VERSION:2.0
PRODID:-//Tukios.com/
BEGIN:VEVENT
UID:255e9cef-011b-4ebb-94f4-116d74b7d519@www.memorialfuneral.com
DTSTAMP:20260421T234853Z
DTSTART:20260423T180000Z
DTEND:20260423T183000Z
SUMMARY:Funeral Service
DESCRIPTION:
URL:https://www.memorialfuneral.com/obituaries/celia-anzaldua
LOCATION: 215 N 16th Ave  Edinburg TX 78541
GEO:26.302461;-98.1570008
END:VEVENT
END:VCALENDAR