BEGIN:VCALENDAR
VERSION:2.0
PRODID:-//Tukios.com/
BEGIN:VEVENT
UID:ab3644a2-69d7-48a0-9c52-280e24a0357f@www.memorialfuneral.com
DTSTAMP:20260421T234848Z
DTSTART:20260422T230000Z
DTEND:20260423T000000Z
SUMMARY:Rosary
DESCRIPTION:
URL:https://www.memorialfuneral.com/obituaries/celia-anzaldua
LOCATION: 208 E Canton Rd  Edinburg TX 78539
GEO:26.2745012;-98.1681285
END:VEVENT
END:VCALENDAR